BEGIN:VCALENDAR
VERSION:2.0
PRODID:-//Tukios.com/
BEGIN:VEVENT
UID:894365e9-07c8-42e9-967b-c6cdc7d96a05@obituaries.walkerfamilyfunerals.com
DTSTAMP:20260421T040114Z
DTSTART:20260508T170000Z
DTEND:20260508T190000Z
SUMMARY:Public Viewing
DESCRIPTION:
URL:https://obituaries.walkerfamilyfunerals.com/rigoberto-martinez
LOCATION:St Mel Catholic Church 4140  Corona Ave  Norco CA 92860
GEO:33.9421435;-117.5462826
END:VEVENT
END:VCALENDAR