BEGIN:VCALENDAR
VERSION:2.0
PRODID:-//Tukios.com/
BEGIN:VEVENT
UID:25bb1fed-be4b-4ccd-a4e3-b4ff1d6cde00@obituaries.walkerfamilyfunerals.com
DTSTAMP:20260421T035758Z
DTSTART:20260508T183000Z
DTEND:20260508T184500Z
SUMMARY:Rosary
DESCRIPTION:
URL:https://obituaries.walkerfamilyfunerals.com/rigoberto-martinez
LOCATION:St Mel Catholic Church 4140  Corona Ave  Norco CA 92860
GEO:33.9421435;-117.5462826
END:VEVENT
END:VCALENDAR