BEGIN:VCALENDAR
VERSION:2.0
PRODID:-//Tukios.com/
BEGIN:VEVENT
UID:a9ab4e0f-3970-445a-ac99-9607eb7b0a47@obituaries.walkerfamilyfunerals.com
DTSTAMP:20260421T040205Z
DTSTART:20260508T190000Z
DTEND:20260508T200000Z
SUMMARY:Mass
DESCRIPTION:
URL:https://obituaries.walkerfamilyfunerals.com/rigoberto-martinez
LOCATION:St Mel Catholic Church 4140  Corona Ave  Norco CA 92860
GEO:33.9421435;-117.5462826
END:VEVENT
END:VCALENDAR