BEGIN:VCALENDAR
VERSION:2.0
PRODID:-//Tukios.com/
BEGIN:VEVENT
UID:4c1b4707-40b2-4c49-8c5e-40bdfa53a293@obituaries.walkerfamilyfunerals.com
DTSTAMP:20260421T035758Z
DTSTART:20260508T203000Z
DTEND:20260508T210000Z
SUMMARY:Graveside Service
DESCRIPTION:
URL:https://obituaries.walkerfamilyfunerals.com/rigoberto-martinez
LOCATION:Pierce Brothers Crestlawn Memorial Park  11500 Arlington Ave  
	Riverside CA 92505
GEO:33.9537952;-117.5180298
END:VEVENT
END:VCALENDAR