BEGIN:VCALENDAR
VERSION:2.0
PRODID:-//Tukios.com/
BEGIN:VEVENT
UID:63ce1f08-8323-4657-8773-3428d8c530e5@obituaries.walkerfamilyfunerals.com
DTSTAMP:20260423T004225Z
DTSTART:20260430T170000Z
DTEND:20260430T183000Z
SUMMARY:Funeral Service
DESCRIPTION:
URL:https://obituaries.walkerfamilyfunerals.com/kenneth-mckernan
LOCATION:Central Community Christian Fellowship 5623 Arlington Road  
	Riverside CA 92504
GEO:33.9468305;-117.4257591
END:VEVENT
END:VCALENDAR