BEGIN:VCALENDAR
VERSION:2.0
PRODID:-//Tukios.com/
BEGIN:VEVENT
UID:3d2a7162-665e-430c-82cd-f5b84007951f@obituaries.walkerfamilyfunerals.com
DTSTAMP:20260423T004417Z
DTSTART:20260430T193000Z
DTEND:20260430T210000Z
SUMMARY:Graveside Service
DESCRIPTION:
URL:https://obituaries.walkerfamilyfunerals.com/kenneth-mckernan
LOCATION:Pierce Brothers Crestlawn Memorial Park 11500 Arlington Ave  
	Riverside CA 92505
GEO:33.9537952;-117.5180298
END:VEVENT
END:VCALENDAR