BEGIN:VCALENDAR
VERSION:2.0
PRODID:-//Tukios.com/
BEGIN:VEVENT
UID:5c1ad7c8-0879-4333-b48f-2e6536934ca8@obituaries.walkerfamilyfunerals.com
DTSTAMP:20260422T011344Z
DTSTART:20260506T200000Z
DTEND:20260506T203000Z
SUMMARY:Shelter Service
DESCRIPTION:
URL:https://obituaries.walkerfamilyfunerals.com/dorothy-sparrevohn
LOCATION:Riverside National Cemetery 22495 Van Buren Blvd.  Riverside CA 
	92518
GEO:33.8856688;-117.2793495
END:VEVENT
END:VCALENDAR