BEGIN:VCALENDAR
VERSION:2.0
PRODID:-//Tukios.com/
BEGIN:VEVENT
UID:5a9567c8-c168-4937-97f2-a62c3b8a09ea@obituaries.walkerfamilyfunerals.com
DTSTAMP:20260422T010605Z
DTSTART:20260506T170000Z
DTEND:20260506T180000Z
SUMMARY:Public Viewing
DESCRIPTION:
URL:https://obituaries.walkerfamilyfunerals.com/dorothy-sparrevohn
LOCATION:East Hills Community Church     
GEO:0;0
END:VEVENT
END:VCALENDAR