BEGIN:VCALENDAR
VERSION:2.0
PRODID:-//Tukios.com/
BEGIN:VEVENT
UID:2eb1a0fc-93a9-4ef8-a7df-9cfd9fb8443d@obituaries.walkerfamilyfunerals.com
DTSTAMP:20260422T010619Z
DTSTART:20260506T180000Z
DTEND:20260506T190000Z
SUMMARY:Funeral Service
DESCRIPTION:
URL:https://obituaries.walkerfamilyfunerals.com/dorothy-sparrevohn
LOCATION:East Hills Community Church     
GEO:0;0
END:VEVENT
END:VCALENDAR